BEGIN:VCALENDAR
VERSION:2.0
PRODID:-//hacksw/handcal//NONSGML v1.0//EN
METHOD:PUBLISH
CALSCALE:GREGORIAN
BEGIN:VEVENT
UID:5e5a60ef23981
DTSTART:20150731T160000Z
DTSTAMP:20200229T130239Z
DTEND:20150918T160000Z
LOCATION:
DESCRIPTION:
URL;VALUE=URI:https://www.fac.org.au/whats-on/post/unfolding-new-indi
 an-textiles/
SUMMARY:Unfolding New Indian Textiles
END:VEVENT
END:VCALENDAR
