BEGIN:VCALENDAR
VERSION:2.0
PRODID:-//hacksw/handcal//NONSGML v1.0//EN
METHOD:PUBLISH
CALSCALE:GREGORIAN
BEGIN:VEVENT
UID:5e5a650e4be31
DTSTART:20190608T020000Z
DTSTAMP:20200229T132014Z
DTEND:20190721T090000Z
LOCATION:
DESCRIPTION:
URL;VALUE=URI:https://www.fac.org.au/whats-on/post/trevor-richards-gr
 ound-plane/
SUMMARY:Trevor Richards | Ground Plane
END:VEVENT
END:VCALENDAR
