BEGIN:VCALENDAR
VERSION:2.0
PRODID:-//hacksw/handcal//NONSGML v1.0//EN
METHOD:PUBLISH
CALSCALE:GREGORIAN
BEGIN:VEVENT
UID:5e5a66aa9f125
DTSTART:20180526T020000Z
DTSTAMP:20200229T132706Z
DTEND:20180715T090000Z
LOCATION:
DESCRIPTION:
URL;VALUE=URI:https://www.fac.org.au/whats-on/post/rachael-dease-like
 -embracing-ice/
SUMMARY:Rachael Dease | Like Embracing Ice
END:VEVENT
END:VCALENDAR
