BEGIN:VCALENDAR
VERSION:2.0
PRODID:-//hacksw/handcal//NONSGML v1.0//EN
METHOD:PUBLISH
CALSCALE:GREGORIAN
BEGIN:VEVENT
UID:5e5a650b0549d
DTSTART:20190608T020000Z
DTSTAMP:20200229T132011Z
DTEND:20190721T090000Z
LOCATION:
DESCRIPTION:
URL;VALUE=URI:https://www.fac.org.au/whats-on/post/james-angus-papier
 -mache-beginners/
SUMMARY:James Angus | Papier Mâché for Beginners
END:VEVENT
END:VCALENDAR
