BEGIN:VCALENDAR
VERSION:2.0
PRODID:-//hacksw/handcal//NONSGML v1.0//EN
METHOD:PUBLISH
CALSCALE:GREGORIAN
BEGIN:VEVENT
UID:5e5a6668d3eac
DTSTART:20170303T110000Z
DTSTAMP:20200229T132600Z
DTEND:20170303T130000Z
LOCATION:
DESCRIPTION:
URL;VALUE=URI:https://www.fac.org.au/whats-on/post/deadly-funny-wa-he
 at/
SUMMARY:Deadly Funny: WA Heat
END:VEVENT
END:VCALENDAR
