BEGIN:VCALENDAR
VERSION:2.0
PRODID:-//hacksw/handcal//NONSGML v1.0//EN
METHOD:PUBLISH
CALSCALE:GREGORIAN
BEGIN:VEVENT
UID:5e5a6655becd4
DTSTART:20190920T020000Z
DTSTAMP:20200229T132541Z
DTEND:20191110T090000Z
LOCATION:
DESCRIPTION:
URL;VALUE=URI:https://www.fac.org.au/whats-on/post/2019-fremantle-art
 s-centre-print-award/
SUMMARY:2019 Fremantle Arts Centre Print Award
END:VEVENT
END:VCALENDAR
